BEGIN:VCALENDAR
VERSION:2.0
PRODID:-//NM Commission for the Blind - ECPv5.9.1//NONSGML v1.0//EN
CALSCALE:GREGORIAN
METHOD:PUBLISH
X-WR-CALNAME:NM Commission for the Blind
X-ORIGINAL-URL:https://www.cfb.state.nm.us
X-WR-CALDESC:Events for NM Commission for the Blind
BEGIN:VTIMEZONE
TZID:America/Denver
BEGIN:DAYLIGHT
TZOFFSETFROM:-0700
TZOFFSETTO:-0600
TZNAME:MDT
DTSTART:20210314T090000
END:DAYLIGHT
BEGIN:STANDARD
TZOFFSETFROM:-0600
TZOFFSETTO:-0700
TZNAME:MST
DTSTART:20211107T080000
END:STANDARD
END:VTIMEZONE
BEGIN:VEVENT
DTSTART;TZID=America/Denver:20210622T090000
DTEND;TZID=America/Denver:20210622T120000
DTSTAMP:20210922T055446
CREATED:20210628T172812Z
LAST-MODIFIED:20210809T153248Z
UID:15516-1624352400-1624363200@www.cfb.state.nm.us
SUMMARY:State Rehab Council
DESCRIPTION:LEGAL NOTICE The New Mexico Commission for the Blind State Rehabilitation Council will hold a regular meeting starting at 9:00 AM on Tuesday\, June 22\, 2021. Due to the Coronavirus emergency\, the meeting will be held virtually. Join Zoom Meeting https://us02web.zoom.us/j/83405593947?pwd=TURKRkJQZGNFY2pWUDE4ZW8zSTV1UT09 Meeting ID: 834 0559 3947 Passcode: 942002 One tap mobile +12532158782\,\,83405593947#\,\,\,\,*942002# US (Tacoma) Dial by your location +1 253 215 8782 US (Tacoma) 833 548 0282 US Toll-free The agenda will be posted at least 3 days prior to the meeting on the Commission web page\, www.cfb.state.nm.us. A recording of the meeting will be posted on the Commission’s web page. Zoom information\, Copies of the agenda\, and meeting materials can be obtained by contacting Ms. Kelly Burma at 505-383-2277\, or at kelly.burma@state.nm.us. You may also contact Ms. Burma should you have any questions about how to join the meeting or have difficulty joining the meeting. If you are an individual with a disability who is in need of a reader\, amplifier\, qualified sign language interpreter\, or any other form of auxiliary aid or service to attend or participate\, Please contact Ms. Burma at least three days in advance\, or as soon as possible. \nCondensed OMA Training Virtual 6.22.2021 \nCondensed OMA Training Virtual 6.22.2021 \nOpen Meetings Act SRC Training by John Kreienkamp on June 22\, 2021 \n\nhttps://www.cfb.state.nm.us/wp-content/uploads/2021/06/NM-Commission-for-the-Blind-State-Rehabilitation-Council-Regular-Meeting-June-22-2021-Audio-Recording.m4a\nLEGAL NOTICE Commission for the Blind State Rehab Council Regular Meeting to be Held Virtually June 22 2021 \nAgenda Commission for the Blind State Rehabilitation Council Meeting to Be Held Virtually June 22 2021 \nMinutes Draft Commission for the Blind State Rehab Council Meeting Held Virtually March 26\, 2021 \nOpen Meetings Act Resolution Commission for the Blind State Rehab Council June 22 2021
URL:https://www.cfb.state.nm.us/event/state-rehab-council/
CATEGORIES:SRC
END:VEVENT
END:VCALENDAR