BEGIN:VCALENDAR
VERSION:2.0
PRODID:-//NM Commission for the Blind - ECPv6.15.20//NONSGML v1.0//EN
CALSCALE:GREGORIAN
METHOD:PUBLISH
X-WR-CALNAME:NM Commission for the Blind
X-ORIGINAL-URL:https://www.cfb.nm.gov
X-WR-CALDESC:Events for NM Commission for the Blind
REFRESH-INTERVAL;VALUE=DURATION:PT1H
X-Robots-Tag:noindex
X-PUBLISHED-TTL:PT1H
BEGIN:VTIMEZONE
TZID:America/Denver
BEGIN:DAYLIGHT
TZOFFSETFROM:-0700
TZOFFSETTO:-0600
TZNAME:MDT
DTSTART:20200308T090000
END:DAYLIGHT
BEGIN:STANDARD
TZOFFSETFROM:-0600
TZOFFSETTO:-0700
TZNAME:MST
DTSTART:20201101T080000
END:STANDARD
BEGIN:DAYLIGHT
TZOFFSETFROM:-0700
TZOFFSETTO:-0600
TZNAME:MDT
DTSTART:20210314T090000
END:DAYLIGHT
BEGIN:STANDARD
TZOFFSETFROM:-0600
TZOFFSETTO:-0700
TZNAME:MST
DTSTART:20211107T080000
END:STANDARD
BEGIN:DAYLIGHT
TZOFFSETFROM:-0700
TZOFFSETTO:-0600
TZNAME:MDT
DTSTART:20220313T090000
END:DAYLIGHT
BEGIN:STANDARD
TZOFFSETFROM:-0600
TZOFFSETTO:-0700
TZNAME:MST
DTSTART:20221106T080000
END:STANDARD
END:VTIMEZONE
BEGIN:VEVENT
DTSTART;TZID=America/Denver:20210623T090000
DTEND;TZID=America/Denver:20210623T170000
DTSTAMP:20260424T141647
CREATED:20210628T223531Z
LAST-MODIFIED:20211019T155416Z
UID:15549-1624438800-1624467600@www.cfb.nm.gov
SUMMARY:Commission for the Blind
DESCRIPTION:LEGAL NOTICE The New Mexico Commission for the Blind will hold a regular meeting starting at 9:00 AM on Wednesday\, June 23\, 2021. Due to the Coronavirus emergency\, the meeting will be held virtually. Join Zoom Meeting https://us02web.zoom.us/j/83365780582?pwd=Rm0xYzdjK3FCUkUwbkVVWkE1NkU5Zz09 Meeting ID: 833 6578 0582 Passcode: 862749 One tap mobile +16699006833\,\,83365780582#\,\,\,\,*862749# US (San Jose) Dial by your location +1 669 900 6833 US (San Jose) 877 853 5257 US Toll-free The agenda will be posted at least 3 days prior to the meeting on the Commission web page\, www.cfb.nm.gov. A recording of the meeting will be posted on the Commission’s web page. Zoom information\, Copies of the agenda\, and meeting materials can be obtained by contacting Ms. Kelly Burma at 505-383-2277\, or at kelly.burma@state.nm.us. You may also contact Ms. Burma should you have any questions about how to join the meeting or have difficulty joining the meeting. If you are an individual with a disability who is in need of a reader\, amplifier\, qualified sign language interpreter\, or any other form of auxiliary aid or service to attend or participate\, Please contact Ms. Burma at least three days in advance\, or as soon as possible. \nhttps://www.cfb.nm.gov/wp-content/uploads/2021/06/NM-Commission-for-the-Blind-Regular-Meeting-June-23-2021-Audio-Recording.m4a\n\nMinutes Final Commission for the Blind Meeting Held Virtually April 23 2021\n\nMinutes Draft Commission for the Blind Meeting Held Virtually April 23 2021\n\nLEGAL NOTICE Commission for the Blind Regular Meeting to be Held Virtually June 23 2021\n\nAllowable Cost Policy and Procedure Adopted In Regular Meeting on June 23 2021 Formatted Draft Version 061521 Version\n\nAgenda Commission for the Blind Meeting to be Held Virtually June 23 2021
URL:https://www.cfb.nm.gov/event/commission-for-the-blind-3/
LOCATION:NM
CATEGORIES:Commission
END:VEVENT
END:VCALENDAR