BEGIN:VCALENDAR
VERSION:2.0
PRODID:-//NM Commission for the Blind - ECPv5.9.1//NONSGML v1.0//EN
CALSCALE:GREGORIAN
METHOD:PUBLISH
X-WR-CALNAME:NM Commission for the Blind
X-ORIGINAL-URL:https://www.cfb.state.nm.us
X-WR-CALDESC:Events for NM Commission for the Blind
BEGIN:VTIMEZONE
TZID:America/Denver
BEGIN:DAYLIGHT
TZOFFSETFROM:-0700
TZOFFSETTO:-0600
TZNAME:MDT
DTSTART:20210314T090000
END:DAYLIGHT
BEGIN:STANDARD
TZOFFSETFROM:-0600
TZOFFSETTO:-0700
TZNAME:MST
DTSTART:20211107T080000
END:STANDARD
END:VTIMEZONE
BEGIN:VEVENT
DTSTART;TZID=America/Denver:20210826T090000
DTEND;TZID=America/Denver:20210826T130000
DTSTAMP:20211002T095314
CREATED:20210810T160330Z
LAST-MODIFIED:20210915T170816Z
UID:15690-1629968400-1629982800@www.cfb.state.nm.us
SUMMARY:Commission for the Blind
DESCRIPTION:LEGAL NOTICE \n  \nThe New Mexico Commission for the Blind will hold a regular meeting starting at 9:00 AM on Thursday\, August 26\, 2021. Due to the Coronavirus emergency\, the meeting will be held virtually. \n  \nJoin Zoom Meeting \nhttps://us02web.zoom.us/j/89453124910?pwd=VDJLcHAxdXN5S2tvMzNBSnlCdFVKdz09 \n  \nMeeting ID: 894 5312 4910 \nPasscode: x2RtBG \nOne tap mobile \n+16699006833\,\,89453124910#\,\,\,\,*552730# US (San Jose) \n  \nDial by your location \n+1 669 900 6833 US (San Jose) \n877 853 5257 US Toll-free \n  \nThe agenda will be posted at least 3 days prior to the meeting on the Commission web page\, www.cfb.state.nm.us. A recording of the meeting will be posted on the Commission’s web page. Zoom information\, Copies of the agenda\, and meeting materials can be obtained by contacting Ms. Kelly Burma at 505-383-2277\, or at kelly.burma@state.nm.us. You may also contact Ms. Burma should you have any questions about how to join the meeting or have difficulty joining the meeting. If you are an individual with a disability who is in need of a reader\, amplifier\, qualified sign language interpreter\, or any other form of auxiliary aid or service to attend or participate\, Please contact Ms. Burma at least three days in advance\, or as soon as possible. LEGAL NOTICE Commission for the Blind Regular Meeting to be Held Virtually August 26 2021 \nMinutes Final Commission for the Blind Meeting Held Virtually June 23\, 2021 \nStrategic Plan Commission September 1 2021 through October 1 2024 \nOpen Meetings Act Resolution Commission for the Blind August 26\, 2021 \nMinutes Draft June 23 CFB Meeting Attachment Property_Disposal_Notification_06.23.21 \nMinutes Draft Commission for the Blind Meeting Held Virtually June 23 2021 \nAgenda Commission for the Blind Meeting to be Held Virtually August 26 2021 \nAgenda Commission for the Blind Meeting to be Held Virtually August 26 2021 \nNM Commission for the Blind Meeting August 26\, 2021 Audio Recording \n 
URL:https://www.cfb.state.nm.us/event/new-mexico-commission-for-the-blind-regular-meeting/
CATEGORIES:Commission
END:VEVENT
BEGIN:VEVENT
DTSTART;TZID=America/Denver:20210827T163000
DTEND;TZID=America/Denver:20210827T173000
DTSTAMP:20211002T095314
CREATED:20210813T015651Z
LAST-MODIFIED:20210813T015838Z
UID:15706-1630081800-1630085400@www.cfb.state.nm.us
SUMMARY:Commission for the Blind
DESCRIPTION:LEGAL NOTICE \n  \nThe New Mexico Commission for the Blind will hold a virtual public meeting on Friday\, August 27\, from 4:30 PM to 5:30 PM. The meeting will be held through Zoom\, and will be held in conjunction with the state convention of the National Federation of the Blind. The purpose is to provide New Mexicans with an opportunity to suggest modifications to the Commission’s portion of the Combined State Plan under the Workforce Innovation and Opportunity Act. It is through the Combined State Plan that the Commission provides vocational rehabilitation services. \n  \n  \nJoin Zoom Meeting \nhttps://us02web.zoom.us/j/85395905616?pwd=TUQzdEZTbG5SZjZ1amhRRVZwamlWZz09 \n  \nMeeting ID: 853 9590 5616 \nPasscode: ksD1G2 \nOne tap mobile \n+12532158782\,\,85395905616#\,\,\,\,*383547# US (Tacoma) \n  \nDial by your location \n+1 253 215 8782 US (Tacoma) \n877 853 5257 US Toll-free \n  \nCopies of the Commission’s portion of the Combined State Plan can be found at www.cfb.state.nm.us. You may also obtain a copy of the plan by contacting Kelly Burma at Kelly.Burma@state.nm.us\, or at 505-383-2277\,. If you are an individual with a disability who is in need of a reader\, amplifier\, qualified sign language interpreter\, or any other form of auxiliary aid or service to attend or participate\, please contact Ms. Kelly Burma at least three business days in advance. Written comments may also be sent to Ms. Burma. \nLEGAL NOTICE Commission for the Blind Virtual Public Meeting August 27 2021 \n 
URL:https://www.cfb.state.nm.us/event/commission-for-the-blind-56/
CATEGORIES:Commission
END:VEVENT
END:VCALENDAR