BEGIN:VCALENDAR
VERSION:2.0
PRODID:-//NM Commission for the Blind - ECPv5.9.1//NONSGML v1.0//EN
CALSCALE:GREGORIAN
METHOD:PUBLISH
X-WR-CALNAME:NM Commission for the Blind
X-ORIGINAL-URL:https://www.cfb.state.nm.us
X-WR-CALDESC:Events for NM Commission for the Blind
BEGIN:VTIMEZONE
TZID:America/Denver
BEGIN:DAYLIGHT
TZOFFSETFROM:-0700
TZOFFSETTO:-0600
TZNAME:MDT
DTSTART:20160313T090000
END:DAYLIGHT
BEGIN:STANDARD
TZOFFSETFROM:-0600
TZOFFSETTO:-0700
TZNAME:MST
DTSTART:20161106T080000
END:STANDARD
BEGIN:DAYLIGHT
TZOFFSETFROM:-0700
TZOFFSETTO:-0600
TZNAME:MDT
DTSTART:20170312T090000
END:DAYLIGHT
BEGIN:STANDARD
TZOFFSETFROM:-0600
TZOFFSETTO:-0700
TZNAME:MST
DTSTART:20171105T080000
END:STANDARD
BEGIN:DAYLIGHT
TZOFFSETFROM:-0700
TZOFFSETTO:-0600
TZNAME:MDT
DTSTART:20180311T090000
END:DAYLIGHT
BEGIN:STANDARD
TZOFFSETFROM:-0600
TZOFFSETTO:-0700
TZNAME:MST
DTSTART:20181104T080000
END:STANDARD
BEGIN:DAYLIGHT
TZOFFSETFROM:-0700
TZOFFSETTO:-0600
TZNAME:MDT
DTSTART:20190310T090000
END:DAYLIGHT
BEGIN:STANDARD
TZOFFSETFROM:-0600
TZOFFSETTO:-0700
TZNAME:MST
DTSTART:20191103T080000
END:STANDARD
BEGIN:DAYLIGHT
TZOFFSETFROM:-0700
TZOFFSETTO:-0600
TZNAME:MDT
DTSTART:20200308T090000
END:DAYLIGHT
BEGIN:STANDARD
TZOFFSETFROM:-0600
TZOFFSETTO:-0700
TZNAME:MST
DTSTART:20201101T080000
END:STANDARD
BEGIN:DAYLIGHT
TZOFFSETFROM:-0700
TZOFFSETTO:-0600
TZNAME:MDT
DTSTART:20210314T090000
END:DAYLIGHT
BEGIN:STANDARD
TZOFFSETFROM:-0600
TZOFFSETTO:-0700
TZNAME:MST
DTSTART:20211107T080000
END:STANDARD
END:VTIMEZONE
BEGIN:VEVENT
DTSTART;TZID=America/Denver:20161214T133000
DTEND;TZID=America/Denver:20210628T170000
DTSTAMP:20211010T115649
CREATED:20161214T214759Z
LAST-MODIFIED:20161214T214759Z
UID:15534-1481722200-1624899600@www.cfb.state.nm.us
SUMMARY:Commission for the Blind
DESCRIPTION:LEGAL NOTICE The State Rehabilitation Council of the Commission for the Blind will hold a regular meeting in Alamogordo on December 14 and 15\, 2016. The meeting will start at 1:30 PM on December 14\, and resume at 9:00 AM on December 15. LOCATION Orientation Center 408 North White Sands Blvd. Alamogordo\, NM 88310 The agenda will be posted at least 3 days prior to the meeting on the Commission web page\, www.cfb.state.nm.us. You may also sign up to receive notices\, agendas\, and minutes at that same web page. Copies of the agenda can also be obtained by contacting Ms. Kelly Burma at 505-841-8844\, or at kelly.burma@state.nm.us. If you are an individual with a disability who is in need of a reader\, amplifier\, qualified sign language interpreter\, or any other form of auxiliary aid or service\, Please contact Ms. Burma at least 5 business days in advance. \nAgenda Commission for the Blind State Rehab Council Alamogordo Regular Meeting December 14 and 15 2016 \nLegal Notice Alamogordo State Rehab Council Commission for the Blind December 14 and 15
URL:https://www.cfb.state.nm.us/event/commission-for-the-blind-2/
CATEGORIES:SRC
END:VEVENT
BEGIN:VEVENT
DTSTART;TZID=America/Denver:20170202T093000
DTEND;TZID=America/Denver:20210628T170000
DTSTAMP:20211010T115649
CREATED:20161214T214311Z
LAST-MODIFIED:20161214T214311Z
UID:15533-1486027800-1624899600@www.cfb.state.nm.us
SUMMARY:State Rehab Council
DESCRIPTION:LEGAL NOTICE The State Rehabilitation Council of the Commission for the Blind will hold a regular meeting in Santa Fe on February 2\, 2017. The meeting will start at 9:30 AM. LOCATION Commission for the Blind 2905 Rodeo Park Dr. E. Bldg. 4 Suite 100 Santa Fe\, NM 87505 The agenda will be posted at least 3 days prior to the meeting on the Commission web page\, www.cfb.state.nm.us. You may also sign up to receive notices\, agendas\, and minutes at that same web page. Copies of the agenda can also be obtained by contacting Ms. Kelly Burma at 505-841-8844\, or at kelly.burma@state.nm.us. If you are an individual with a disability who is in need of a reader\, amplifier\, qualified sign language interpreter\, or any other form of auxiliary aid or service\, Please contact Ms. Burma at least 5 days in advance. \nMinutes Commission for the Blind State Rehab Council Santa Fe Regular Meeting February 2 2017 \nLEGAL NOTICE State Rehabilitation Council of the Commission for the Blind Santa Fe Meeting February 2 2017 \nAgenda Commission for the Blind State Rehab Council Santa Fe Regular Meeting February 2 2017
URL:https://www.cfb.state.nm.us/event/state-rehab-council-22/
CATEGORIES:SRC
END:VEVENT
BEGIN:VEVENT
DTSTART;TZID=America/Denver:20181022T090000
DTEND;TZID=America/Denver:20210628T170000
DTSTAMP:20211010T115649
CREATED:20210628T185449Z
LAST-MODIFIED:20210628T185449Z
UID:15527-1540198800-1624899600@www.cfb.state.nm.us
SUMMARY:State Rehab Council
DESCRIPTION:LEGAL NOTICE The State Rehabilitation Council of the Commission for the Blind will hold a regular meeting in Albuquerque starting at 9:00 AM on October 22\, 2018. LOCATION Commission for the Blind 2200 Yale Blvd SE Albuquerque\, NM 87106 The agenda will be posted at least 3 days prior to the meeting on the Commission web page\, www.cfb.state.nm.us. Copies of the agenda can also be obtained by contacting Ms. Kelly Burma at 505-841-8844\, or at kelly.burma@state.nm.us. If you are an individual with a disability who is in need of a reader\, amplifier\, qualified sign language interpreter\, or any other form of auxiliary aid or service\, Please contact Ms. Burma at least 5 days in advance. Please also help us accommodate persons who are sensitive to scented items by being conscientious in your use of perfume\, aftershave\, lotion\, hair products\, or other fragrances. \nLegal Notice Commission for the Blind State Rehab Council Albuquerque Regular Meeting\, October 22\, 2018 \nMinutes Draft September 18 2018 Albuquerque Special Meeting Commission for the Blind State Rehab Council \nAgenda Commission for the Blind State Rehab Council Albuquerque Meeting October 22 2018
URL:https://www.cfb.state.nm.us/event/state-rehab-council-11/
CATEGORIES:SRC
END:VEVENT
BEGIN:VEVENT
DTSTART;TZID=America/Denver:20200623T130000
DTEND;TZID=America/Denver:20210623T170000
DTSTAMP:20211010T115649
CREATED:20210628T180856Z
LAST-MODIFIED:20210628T180856Z
UID:15521-1592917200-1624467600@www.cfb.state.nm.us
SUMMARY:State Rehab Council
DESCRIPTION:LEGAL NOTICE The New Mexico Commission for the Blind State Rehabilitation Council will hold a special meeting starting at 1:00 PM on Tuesday\, June 23\, 2020. Due to the Coronavirus crisis\, the meeting will be held virtually. Join Zoom Meeting https://zoom.us/j/96931420242?pwd=MzJSRUVYRFluemdkVVRGREhqWWRidz09 Meeting ID: 969 3142 0242 Password: 656524 tap mobile +12532158782\,\,96931420242#\,\,1#\,656524# US (Tacoma) +13462487799\,\,96931420242#\,\,1#\,656524# US (Houston) Dial Toll-free 877 853 5257 US Toll-free 888 475 4499 US Toll-free Meeting ID: 969 3142 0242 Password: 656524 The agenda will be posted at least 3 days prior to the meeting on the Commission web page\, www.cfb.state.nm.us. A recording of the meeting will be posted on the Commission’s web page. Copies of the agenda and meeting materials can be obtained by contacting Ms. Kelly Burma at 505-383-2277\, or at kelly.burma@state.nm.us. You may also contact Ms. Burma should you have any questions about how to join the meeting or experience any difficulties joining the meeting. If you are an individual with a disability who is in need of a reader\, amplifier\, qualified sign language interpreter\, or any other form of auxiliary aid or service to attend or participate\, Please contact Ms. Burma at least 5 days in advance\, or as soon as possible. \nOpen Meetings Resolution Commission for the Blind State Rehab Council June 23 2020 \nLEGAL NOTICE Commission for the Blind State Rehabilitation Council Special Meeting to be Held Virtually June 23 2020 \nNotice of posted recording Commission State Rehab Council Virtual Special Meeting\, June 23\, 2020 \nAgenda Commission for the Blind State Rehab Council Virtual Special Meeting June 23\, 2020 \nMinutes Draft Commission for the Blind State Rehab Council Albuquerque Special Meeting December 16 2019
URL:https://www.cfb.state.nm.us/event/state-rehab-council-5/
CATEGORIES:SRC
END:VEVENT
END:VCALENDAR